BEGIN:VCALENDAR
VERSION:2.0
PRODID:-//www.pfoten-im-herzen.de//Events Plugin//DE
CALSCALE:GREGORIAN
METHOD:PUBLISH
BEGIN:VEVENT
UID:69e5af17a6039@www.pfoten-im-herzen.de
SUMMARY:Krimi Walk &#8211; Faschingsfieber
DESCRIPTION: Die Krimiwanderung ist eine Art Schnitzeljagd, bei der deine F
 ellnase seine Nase einsetzen darf. „Hunde, Geheimnisse, Verbrechen – De
 r Krimi Walk, bei dem nur die Spürnasen siegen!“ Worum gehts?Im Ermittle
 r-Team der Krimi Pfoten löst ihr gemeinsam einen neuen Fall, sucht Hinweis
 e und kombiniert a la Sherlock Holmes Tatgegenstände. Mehr Infos gibt es k
 urz vor dem Ermittlungsstart. Die Teilnehmeranzahl ist streng limitiert. Fa
 milien mit Kindern sind herzlich willkommen. Die Wege sind kinderwagengeeig
 net. Dein Hund sollte mind. 12 Monate alt, altersentsprechend geimpft, vers
 ichert sein und sich neutral gegenüber Kindern verhalten.Wohlfühlabständ
 e untereinander werden eingehalten, damit alle Spaß haben :) Dienstbesprec
 hung: um 13.00 Uhr im HauptquartierDauer: 2 bis 3 StundenGebühr: 50,00 Eur
 o pro Teilnehmer bzw. eine Familie mit einem HundBezahlung: Vorab per Über
 weisung Wo wird ermittelt? In 85716 und Umgebung - Mit Hund auf Spurensuche
  – Löst ihr gemeinsam das Rätsel? Anmeldung per Mail oder über das Kon
 taktformular. Bitte beachte, dass eine Rückerstattung der Gebühr des Krim
 i Walks unter Berücksichtigung deines 14-tägigen Widerrufsrechts bei Nich
 t-Teilnahme nicht möglich ist. Weitere Infos findest du in den AGB. Bitte 
 bringe mit: eine normale Führleine mit 2 bis 3 Metern eine Schleppleine mi
 t 5 bis 7 Metern ein gut sitzendes und gepolstertes Geschirr viele, kleine 
 und weiche Leckerchen, welche dein Hund mag eine Leckerli-Tasche für den G
 ürtel für eine schnelle Belohnung Wasser für dich und deinen Hund; je na
 ch Witterung einen Hundemantel + Decke Weitere Infos: gehe bitte vorab 20 m
 in. mit deinem Hund spazieren, damit er sich lösen kann und einen Kopf fü
 r die Ermittlungen hat ;) um keine Hinweise zu vernichten, gehe bitte auße
 rhalb des Tatortes spazieren (4 km Umkreis) am besten Zuhause :) Hunde mit 
 Futtermittelunverträglichkeit oder -allergie dürfen gerne teilnehmen, da 
 die Leckerchen an den Hinweiskarten fest verschlossen in Filmdosen verpackt
  sind und somit nicht bzw. schwer zugänglich - belohne deinen Hund nach de
 m Fund mit deinem Futter und lasse die Filmdose verschlossen verwendet werd
 en Bio-Wiener Bis Bald deine Tina 
DTSTART:20270206T130000
DTEND:20270206T150000
LOCATION:85716 Unterschleißheim 
URL:https://www.pfoten-im-herzen.de/events/krimi-walk-faschingsfieber/
END:VEVENT
END:VCALENDAR
