BEGIN:VCALENDAR
VERSION:2.0
PRODID:-//www.pfoten-im-herzen.de//Events Plugin//DE
CALSCALE:GREGORIAN
METHOD:PUBLISH
BEGIN:VEVENT
UID:69e597e7bf679@www.pfoten-im-herzen.de
SUMMARY:Einzelstunde
DESCRIPTION: Keine Lust mehr auf Dauerzug auf der Leine oder einen Hund, de
 r dich draußen ignoriert? Buche jetzt deine Einzelstunde und wir bespreche
 n deine Ziele 🙂 Wie schön wäre es, wenn… dein Hund frei ohne Leine l
 aufen könnte und du dich auf ihn verlassen kannst? ihr an Artgenossen ganz
  entspannt vorbei gehen könnt? Ihr habt ganz andere Baustellen?Lass uns te
 lefonieren und deine Themen besprechen.Das Kennenlernen vor Ort in 85716 Un
 terschleißheim oder telefonisch ist kostenlos! Das Training findet in 8571
 6 Unterschleißheim statt. Dauer: 60 min. – Bezahlung vor Ort in bar. Hau
 sbesuche sind selbstverständlich möglich: 90 min. für 120,00€ zzgl. An
 fahrtskosten. Hausbesuche in Unterschleißheim sind kostenlos; außerhalb v
 on 85716: vom Standort der Hundeschule zur Haustüre des Kunden sind es 1,0
 0€/km. Neugierig? Schreib mir! 0152 549 77 213 – du hast an diesem Tag 
 keine Zeit? Wir finden einen anderen Termin 🙂 Bitte bringe mit: eine nor
 male Führleine mit 3 bis 5 Metern ein gut sitzendes und gepolstertes Gesch
 irr viele, kleine und weiche Leckerchen, welche dein Hund mag eine Leckerli
 -Tasche für den Gürtel für eine schnelle Belohnung Spielzeug Wasser für
  dich und deinen Hund Bis Bald deine Tina 🙂 
DTSTART:20260429T170000
DTEND:20260429T180000
LOCATION:Furtweg 7, 85716 Unterschleißheim
URL:https://www.pfoten-im-herzen.de/events/einzelstunde-4/
END:VEVENT
END:VCALENDAR
