BEGIN:VCALENDAR
VERSION:2.0
PRODID:-//www.pfoten-im-herzen.de//Events Plugin//DE
CALSCALE:GREGORIAN
METHOD:PUBLISH
BEGIN:VEVENT
UID:69e57e67cc43a@www.pfoten-im-herzen.de
SUMMARY:0€ Sprechstunde
DESCRIPTION: Die 0€-Sprechstunde – Dein erster Schritt für einen entsp
 annten Alltag mit deinem Hund Zieht dein Hund an der Leine?Reagiert er star
 k auf andere Hunde?Oder hat er draußen kaum noch ein Ohr für dich? Das is
 t super anstrengend – und du bist damit nicht allein. In meiner kostenlos
 en 0€-Sprechstunde (telefonisch) schauen wir gemeinsam auf deine Situatio
 n und klären:• Was genau dich gerade am meisten belastet• Was realisti
 sch der nächste Schritt für euch ist• Wie ein fairer, moderner Training
 sweg für euch aussehen kann Mein Ansatz:Bedürfnisorientiert, belohnungsba
 siert, ohne Druck, ohne Strafe, ohne Zwang – nachhaltig und beziehungsfö
 rdernd. Mögliche Themen u. a.:✅ Hundebegegnungen✅ Leinenführigkeit✅
  Beschäftigungsideen✅ Sicherer Rückruf✅ Allgemeine Verhaltensfragen W
 ichtig zu wissen:Die 0€-Sprechstunde ist ein erster Orientierungsschritt.
  Danach können – je nach Bedarf – eine Verhaltensanalyse, Einzelstunde
 n oder Gruppentraining sinnvoll sein. Terminvereinbarung (telefonisch): Jet
 zt Termin vereinbaren:WhatsApp oder via Signal Messenger Jeden Montag um 11
  Uhr oder nach Vereinbarung. Ich freu mich auf euch, deine Tina von Pfoten 
 im Herzen 
DTSTART:20260420T110000
DTEND:20260420T113000
URL:https://www.pfoten-im-herzen.de/events/0e-sprechstunde/
END:VEVENT
END:VCALENDAR
