BEGIN:VCALENDAR
VERSION:2.0
PRODID:-//www.pfoten-im-herzen.de//Events Plugin//DE
CALSCALE:GREGORIAN
METHOD:PUBLISH
BEGIN:VEVENT
UID:69e5ade9d4aab@www.pfoten-im-herzen.de
SUMMARY:Baumarkt Rally
DESCRIPTION: Bei 30 Grad und mehr braucht es kein Training in der prallen S
 onne ☀️ ❌🥵 Deshalb verlagern wir lustige, alltagstaugliche und pra
 ktische Spiele in den klimatisierten Baumarkt :D Dauer: 60 min. Familien mi
 t Kindern sind herzlich willkommen! Du möchtest sparen?Nimm die 5er Karte 
 für nur 100,00€5 mal teilnehmen, nur 4 mal zahlen (20,00 € je Std.)Gü
 ltigkeit für 6 Monate.Anwendbar für alle 25,00€-Angebote wie Rückruf-,
  und Leinenspiele, den Fun Nachmittag und Social Walks. Du sparst somit pro
  Event 5,00€Wo? Ein Baumarkt in 85716 Ush oder der näheren Umgebung Bitt
 e bringe mit: eine normale Führleine mit 3 bis 5 Metern ein gut sitzendes 
 und gepolstertes Geschirr viele, kleine und weiche Leckerchen, welche dein 
 Hund mag eine Leckerli-Tasche für den Gürtel für eine schnelle Belohnung
  Spielzeug Wasser für dich und deinen Hund Neugierig? Schreib mir: 0152 54
 9 77 213 Ich freue mich auf euch! Deine Tina 
DTSTART:20260822T120000
DTEND:20260822T130000
LOCATION:85386 Eching
URL:https://www.pfoten-im-herzen.de/events/baumarkt-rally-8/
END:VEVENT
END:VCALENDAR
