BEGIN:VCALENDAR
VERSION:2.0
PRODID:-//www.pfoten-im-herzen.de//Events Plugin//DE
CALSCALE:GREGORIAN
METHOD:PUBLISH
BEGIN:VEVENT
UID:69e5c5b4d85e1@www.pfoten-im-herzen.de
SUMMARY:Leinenspiele &#8211; alle 14 Tage freitags
DESCRIPTION: Du bist genervt, weil dein Hund dich durch die Gegend zieht? D
 ie LeinenfÃ¼hrigkeit lÃ¤uft eigentlich ganz gut und du suchst etwas spieler
 ischen Input? Dann mach mit bei den Leinenspielen! Dauer: 60 min.GebÃ¼hr: 2
 5,00â‚¬ je Teilnehmer;Barzahlung vor OrtMind. 3 TN Du bist richtig bei den 
 Leinenspielen, wennâ€¦- dein Hund sich in einer kleinen Hunde-Gruppe wohlfÃ
 ¼hlt- mind. 16 Wochen alt ist- versichert und altersentsprechend geimpft is
 t- du Lust auf ein herzliches und freundliches Training hast Neugierig? Sch
 reib mir! 0152 54977213 Bitte bringe mit: eine normale FÃ¼hrleine mit 3 bis
  5 Metern ein gut sitzendes und gepolstertes Geschirr viele, kleine und wei
 che Leckerchen, welche dein Hund mag eine Leckerli-Tasche fÃ¼r den GÃ¼rtel 
 fÃ¼r eine schnelle Belohnung Spielzeug Wasser fÃ¼r dich und deinen Hund Du 
 mÃ¶chtest sparen? Nimm die 5er Karte!5 Mal teilnehmen - nur 4 Mal zahlen (=
  20,00â‚¬ pro Std.)Preis der 5er Karte: 100,00 â‚¬ - vorab ÃœberweisungDie 
 5er Karte ist 6 Monate gÃ¼ltig und fÃ¼r alle Events im Wert von 25,00â‚¬ nu
 tzbar: Leinenspiele, RÃ¼ckruf- und Wasserspiele, Baumarkt Rally und den Fun
  Nachmittag. Du mÃ¶chtest dranbleiben und noch gezielter lernen?Super, dann
  ist die Junghunde- und Alltagsgruppe am Montag etwas fÃ¼r dich.Wir treffen
  uns einmal pro Woche fÃ¼r eine optimale Lernkurve. Preis: 35,00 â‚¬ je TN 
 (Dauer: 60 min.) Bis Bald deine Tina :) 
DTSTART:20260522T180000
DTEND:20260522T190000
LOCATION:Emmy-Noether-Ring 12, 85716 UnterschleiÃŸheim
URL:https://www.pfoten-im-herzen.de/events/leinenspiele-alle-14-tage-freita
 gs-2/
END:VEVENT
END:VCALENDAR
