BEGIN:VCALENDAR
VERSION:2.0
PRODID:-//www.pfoten-im-herzen.de//Events Plugin//DE
CALSCALE:GREGORIAN
METHOD:PUBLISH
BEGIN:VEVENT
UID:69e5ad86b6cc2@www.pfoten-im-herzen.de
SUMMARY:Junghunde &amp; Alltagsgruppe &#8211; jeden Montag
DESCRIPTION: Jeden Montag In dieser Kleingruppe trainieren wir alltagsnahe 
 Grundlagen für einen entspannten gemeinsamen Alltag. Im Fokus stehen Orien
 tierung am Menschen, Ruhe trotz Ablenkung sowie der sichere Umgang mit typi
 schen Alltagssituationen wie Hundebegegnungen oder Umweltreizen. Wir arbeit
 en in einer kleinen, ruhigen Gruppe mit viel individueller Begleitung. Ziel
  ist es, dass dein Hund lernt, sich auch im Alltag besser an dir zu orienti
 eren und gelassener mit Reizen umzugehen. Für Hunde ab 16 Wochen geeignet.
  Einzel TeilnahmeGebühr: 35,00€/TN 5er Karte: 160,00€ oder3er Karte: 9
 9,00€Gültigkeit 6 Monate ab Kaufdatum. Sommer (April–September): 18:00
  UhrWinter (Oktober–März): 16:30 UhrDauer: 60 MinutenKleinstgruppe mit m
 ax. 5 TNWo? 85716 Unterschleißheim und Umgebung Bitte bringe mit: eine nor
 male Führleine mit 3 bis 5 Metern ein gut sitzendes und gepolstertes Gesch
 irr viele, kleine und weiche Leckerchen, welche dein Hund mag eine Leckerli
 -Tasche für den Gürtel für eine schnelle Belohnung Spielzeug Wasser für
  dich und deinen Hund wetterfeste Kleidung Ich freu mich auf Euch.Bis bald,
  deine Tina 
DTSTART:20260511T180000
DTEND:20260511T190000
LOCATION:85716 Unterschleißheim
URL:https://www.pfoten-im-herzen.de/events/junghunde-alltagsgruppe-jeden-mo
 ntag-4/
END:VEVENT
END:VCALENDAR
