BEGIN:VCALENDAR
VERSION:2.0
PRODID:-//www.pfoten-im-herzen.de//Events Plugin//DE
CALSCALE:GREGORIAN
METHOD:PUBLISH
BEGIN:VEVENT
UID:69e5adee8d3ab@www.pfoten-im-herzen.de
SUMMARY:Einzelstunde
DESCRIPTION: Keine Lust mehr auf Dauerzug auf der Leine oder einen Hund, de
 r dich draußen ignoriert? Buche jetzt deine Einzelstunde und wir bespreche
 n deine Ziele 🙂 Wie schön wäre es, wenn… dein Hund frei ohne Leine l
 aufen könnte und du dich auf ihn verlassen kannst? ihr an Artgenossen ganz
  entspannt vorbei gehen könnt? Ihr habt ganz andere Baustellen?Lass uns te
 lefonieren und deine Themen besprechen.Das Kennenlernen vor Ort in 85716 Un
 terschleißheim oder telefonisch ist kostenlos! Das Training findet in 8571
 6 Unterschleißheim statt. Dauer: 60 min. Neugierig? Schreib mir! 0152 549 
 77 213 – du hast an diesem Tag keine Zeit? Wir finden einen anderen Termi
 n 🙂 Bitte bringe mit: eine normale Führleine mit 3 bis 5 Metern ein gut
  sitzendes und gepolstertes Geschirr viele, kleine und weiche Leckerchen, w
 elche dein Hund mag eine Leckerli-Tasche für den Gürtel für eine schnell
 e Belohnung Spielzeug Wasser für dich und deinen Hund Bis Bald deine Tina 
 🙂 
DTSTART:20260513T170000
DTEND:20260513T180000
LOCATION:Furtweg 7, 85716 Unterschleißheim
URL:https://www.pfoten-im-herzen.de/events/einzelstunde-9/
END:VEVENT
END:VCALENDAR
