BEGIN:VCALENDAR
VERSION:2.0
PRODID:-//www.pfoten-im-herzen.de//Events Plugin//DE
CALSCALE:GREGORIAN
METHOD:PUBLISH
BEGIN:VEVENT
UID:69e5af08ed5f6@www.pfoten-im-herzen.de
SUMMARY:Krimi Walk Weihnachten in Gefahr!
DESCRIPTION: Die Krimiwanderung ist eine Art Schnitzeljagd, bei der deine F
 ellnase seine Nase einsetzen darf. â€žHunde, Geheimnisse, Verbrechen â€“ De
 r Krimi Walk, bei dem nur die SpÃ¼rnasen siegen!â€œ Worum gehts?Im Ermittle
 r-Team der Krimi Pfoten lÃ¶st ihr gemeinsam einen neuen Fall, sucht Hinweis
 e und kombiniert a la Sherlock Holmes TatgegenstÃ¤nde. Mehr Infos gibt es k
 urz vor dem Ermittlungsstart. Die Teilnehmeranzahl ist streng limitiert. Fa
 milien mit Kindern sind herzlich willkommen. Die Wege sind kinderwagengeeig
 net. Dein Hund sollte mind. 12 Monate alt, altersentsprechend geimpft, vers
 ichert sein und sich neutral gegenÃ¼ber Kindern verhalten.WohlfÃ¼hlabstÃ¤nd
 e untereinander werden stets eingehalten, damit alle SpaÃŸ haben :) Dauer: 
 ca. 2 StundenGebÃ¼hr regulÃ¤r: 50,00 Euro pro Teilnehmer bzw. eine Familie 
 mit einem HundBezahlung: Vorab Ãœberweisung FrÃ¼hbucher-Rabatt bis einschli
 eÃŸlich 01.11.2026 zahlen nur 45,00â‚¬ je TN Mit Hund auf Spurensuche â€“ L
 Ã¶st ihr gemeinsam das RÃ¤tsel? Anmeldung per Mail oder Ã¼ber das Kontaktfo
 rmular. Bitte beachte, dass eine RÃ¼ckerstattung der GebÃ¼hr des Krimi Walk
 s unter BerÃ¼cksichtigung deines 14-tÃ¤gigen Widerrufsrechts bei Nicht-Teil
 nahme nicht mÃ¶glich ist. Weitere Infos findest du in den AGB. Bitte bringe
  mit: eine normale FÃ¼hrleine mit 2 bis 3 Metern eine Schleppleine mit 5 bi
 s 7 Metern ein gut sitzendes und gepolstertes Geschirr viele, kleine und we
 iche Leckerchen, welche dein Hund mag eine Leckerli-Tasche fÃ¼r den GÃ¼rtel
  fÃ¼r eine schnelle Belohnung Wasser fÃ¼r dich und deinen Hund; je nach Wit
 terung einen Hundemantel + Decke Weitere Infos: gehe bitte vorab 20 min. mi
 t deinem Hund spazieren, damit er sich lÃ¶sen kann und einen klaren Kopf fÃ
 ¼r die Ermittlungen hat ðŸ˜‰ um keine Hinweise zu vernichten, gehe bitte au
 ÃŸerhalb des Tatortes spazieren (4 km Umkreis) am besten Zuhause ðŸ™‚ Hunde
  mit FuttermittelunvertrÃ¤glichkeit oder -allergie dÃ¼rfen gerne teilnehmen
 , da die Leckerchen an den Hinweiskarten fest verschlossen in Filmdosen ver
 packt sind und somit nicht bzw. schwer zugÃ¤nglich â€“ belohne deinen Hund 
 nach dem Fund mit deinem Futter und lasse die Filmdose verschlossen verwend
 et werden Bio-Wiener: Pute oder Schwein, zukÃ¼nftig auch vegane Wiener auf 
 Sojabasis Ich freu mich auf euch, deine Tina 
DTSTART:20261212T130000
DTEND:20261212T150000
LOCATION:85716 UnterschleiÃŸheim 
URL:https://www.pfoten-im-herzen.de/events/krimi-walk/
END:VEVENT
END:VCALENDAR
