BEGIN:VCALENDAR
VERSION:2.0
PRODID:-//www.pfoten-im-herzen.de//Events Plugin//DE
CALSCALE:GREGORIAN
METHOD:PUBLISH
BEGIN:VEVENT
UID:69e5c7aa8a129@www.pfoten-im-herzen.de
SUMMARY:Wasserspiele
DESCRIPTION: Abkühlung nötig? Wasserspaß für Mensch und Hund! Bei den W
 asserspielen für Hunde erlebst du einen wunderbaren Nachmittag der Abkühl
 ung und Spaß mit Gleichgesinnten. Dauer: 60 min.Mind. 3 TN, max. 8 TNKoste
 n: 25,00€ je TN Familien mit Kindern sind herzlich willkommen! Du möchte
 st sparen?Nimm die 5er Karte für nur 100,00€5 mal teilnehmen, nur 4 mal 
 zahlen (20,00 € je Std.)Gültigkeit für 6 Monate.Anwendbar für alle 25,
 00€-Angebote wie Rückruf-, und Leinenspiele, den Fun Nachmittag und Soci
 al Walks. Du sparst somit pro Event 5,00€Wo? In 85716 Ush und Umgebung, a
 m Bach oder See Anmeldung unter 0152 54977213 Du möchtest im Thema Erziehu
 ng (Leinenführigkeit, Rückruf usw.) dranbleiben und noch gezielter lernen
 ?Super, dann ist die Offene Lernstunde etwas für dich.Wir treffen uns einm
 al pro Woche für eine optimale Lernkurve. Preis: 35,00 € je TN (Dauer: 6
 0 min.) Bitte bringe mit: ein altes Handtuch, welches dreckig und nass werd
 en darf Handtücher zum Abtrocknen für dich und deinen Hund eine normale F
 ührleine mit 3 bis 5 Metern ein gut sitzendes und gepolstertes Geschirr vi
 ele, kleine und weiche Leckerchen, welche dein Hund mag eine Leckerli-Tasch
 e für den Gürtel für eine schnelle Belohnung Spielzeug Wasser für dich 
 und deinen Hund Ich freu mich auf euch, Deine Tina :) 
DTSTART:20260627T130000
DTEND:20260627T140000
LOCATION:85716 Unterschleißheim
URL:https://www.pfoten-im-herzen.de/events/wasserspiele-5-juli-2/
END:VEVENT
END:VCALENDAR
